BEGIN:VCALENDAR
VERSION:2.0
PRODID:-//High Point FCU - ECPv6.15.20//NONSGML v1.0//EN
CALSCALE:GREGORIAN
METHOD:PUBLISH
X-WR-CALNAME:High Point FCU
X-ORIGINAL-URL:https://www.highpointfcu.com
X-WR-CALDESC:Events for High Point FCU
REFRESH-INTERVAL;VALUE=DURATION:PT1H
X-Robots-Tag:noindex
X-PUBLISHED-TTL:PT1H
BEGIN:VTIMEZONE
TZID:UTC
BEGIN:STANDARD
TZOFFSETFROM:+0000
TZOFFSETTO:+0000
TZNAME:UTC
DTSTART:20190101T000000
END:STANDARD
END:VTIMEZONE
BEGIN:VEVENT
DTSTART;TZID=UTC:20220707T110000
DTEND;TZID=UTC:20220707T140000
DTSTAMP:20260422T014220
CREATED:20220627T183003Z
LAST-MODIFIED:20220627T183003Z
UID:8436-1657191600-1657202400@www.highpointfcu.com
SUMMARY:Shred Day
DESCRIPTION:Member Shred Day. Limit: 4 boxes per member.
URL:https://www.highpointfcu.com/event/shred-day-3/
LOCATION:Olean Area FCU – Wayne Street\, 1201 Wayne Street\, Olean\, NY\, 14760\, United States
END:VEVENT
BEGIN:VEVENT
DTSTART;VALUE=DATE:20220704
DTEND;VALUE=DATE:20220705
DTSTAMP:20260422T014220
CREATED:20220103T211831Z
LAST-MODIFIED:20220103T211831Z
UID:7533-1656892800-1656979199@www.highpointfcu.com
SUMMARY:Independence Day - CU Closed
DESCRIPTION:
URL:https://www.highpointfcu.com/event/independence-day-cu-closed-4/
END:VEVENT
BEGIN:VEVENT
DTSTART;VALUE=DATE:20220620
DTEND;VALUE=DATE:20220621
DTSTAMP:20260422T014220
CREATED:20220103T211645Z
LAST-MODIFIED:20220103T211645Z
UID:7531-1655683200-1655769599@www.highpointfcu.com
SUMMARY:Juneteenth (obs.) - CU Closed
DESCRIPTION:
URL:https://www.highpointfcu.com/event/juneteenth-obs-cu-closed/
END:VEVENT
BEGIN:VEVENT
DTSTART;VALUE=DATE:20220619
DTEND;VALUE=DATE:20220620
DTSTAMP:20260422T014220
CREATED:20220103T211405Z
LAST-MODIFIED:20220103T211405Z
UID:7529-1655596800-1655683199@www.highpointfcu.com
SUMMARY:Juneteenth
DESCRIPTION:
URL:https://www.highpointfcu.com/event/juneteenth/
END:VEVENT
BEGIN:VEVENT
DTSTART;TZID=UTC:20220603T203000
DTEND;TZID=UTC:20220603T230000
DTSTAMP:20260422T014220
CREATED:20220415T154226Z
LAST-MODIFIED:20220415T154401Z
UID:8016-1654288200-1654297200@www.highpointfcu.com
SUMMARY:Family Movie Night - Encanto
DESCRIPTION:Encanto
URL:https://www.highpointfcu.com/event/family-movie-night-encanto/
LOCATION:JCC\, 260 N. Union St.\, Olean\, NY\, 14760\, United States
END:VEVENT
BEGIN:VEVENT
DTSTART;VALUE=DATE:20220530
DTEND;VALUE=DATE:20220531
DTSTAMP:20260422T014220
CREATED:20220103T135331Z
LAST-MODIFIED:20220103T135331Z
UID:7513-1653868800-1653955199@www.highpointfcu.com
SUMMARY:Memorial Day - CU Closed
DESCRIPTION:
URL:https://www.highpointfcu.com/event/memorial-day-cu-closed-6/
END:VEVENT
BEGIN:VEVENT
DTSTART;VALUE=DATE:20220516
DTEND;VALUE=DATE:20220517
DTSTAMP:20260422T014220
CREATED:20220415T153422Z
LAST-MODIFIED:20220502T175031Z
UID:8013-1652659200-1652745599@www.highpointfcu.com
SUMMARY:Annual Meeting
DESCRIPTION:
URL:https://www.highpointfcu.com/event/annual-meeting-2/
END:VEVENT
BEGIN:VEVENT
DTSTART;VALUE=DATE:20220221
DTEND;VALUE=DATE:20220222
DTSTAMP:20260422T014220
CREATED:20220103T132733Z
LAST-MODIFIED:20220103T132733Z
UID:7504-1645401600-1645487999@www.highpointfcu.com
SUMMARY:Presidents' Day - CU Closed
DESCRIPTION:
URL:https://www.highpointfcu.com/event/presidents-day-cu-closed-4/
END:VEVENT
BEGIN:VEVENT
DTSTART;VALUE=DATE:20220117
DTEND;VALUE=DATE:20220118
DTSTAMP:20260422T014220
CREATED:20211229T161332Z
LAST-MODIFIED:20211229T161511Z
UID:7485-1642377600-1642463999@www.highpointfcu.com
SUMMARY:Martin Luther King\, Jr. Day - CU Closed
DESCRIPTION:
URL:https://www.highpointfcu.com/event/martin-luther-king-jr-day-2/
END:VEVENT
BEGIN:VEVENT
DTSTART;VALUE=DATE:20220101
DTEND;VALUE=DATE:20220102
DTSTAMP:20260422T014220
CREATED:20211229T142537Z
LAST-MODIFIED:20211229T143226Z
UID:7471-1640995200-1641081599@www.highpointfcu.com
SUMMARY:New Year's Day - CU Closed
DESCRIPTION:
URL:https://www.highpointfcu.com/event/new-years-day-cu-closed-3/
END:VEVENT
BEGIN:VEVENT
DTSTART;VALUE=DATE:20211231
DTEND;VALUE=DATE:20220101
DTSTAMP:20260422T014220
CREATED:20210406T142340Z
LAST-MODIFIED:20211229T154641Z
UID:5578-1640908800-1640995199@www.highpointfcu.com
SUMMARY:New Year's Eve - CU Closes at 3:30pm
DESCRIPTION:
URL:https://www.highpointfcu.com/event/new-years-eve-cu-closes-at-330pm-3/
ATTACH;FMTTYPE=image/png:https://www.highpointfcu.com/wp-content/uploads/2021/04/new-years-eve-5424890_1280-e1640792792130.png
END:VEVENT
BEGIN:VEVENT
DTSTART;VALUE=DATE:20211221
DTEND;VALUE=DATE:20211222
DTSTAMP:20260422T014220
CREATED:20210406T135936Z
LAST-MODIFIED:20210406T135936Z
UID:5569-1640044800-1640131199@www.highpointfcu.com
SUMMARY:Winter Begins
DESCRIPTION:
URL:https://www.highpointfcu.com/event/winter-begins-3/
ATTACH;FMTTYPE=:
END:VEVENT
BEGIN:VEVENT
DTSTART;VALUE=DATE:20211125
DTEND;VALUE=DATE:20211126
DTSTAMP:20260422T014220
CREATED:20210406T135237Z
LAST-MODIFIED:20210406T135237Z
UID:5566-1637798400-1637884799@www.highpointfcu.com
SUMMARY:Thanksgiving Day - CU Closed
DESCRIPTION:
URL:https://www.highpointfcu.com/event/thanksgiving-day-cu-closed-5/
ATTACH;FMTTYPE=image/png:https://www.highpointfcu.com/wp-content/uploads/2021/04/thanksgiving-4460952_1920.png
END:VEVENT
BEGIN:VEVENT
DTSTART;VALUE=DATE:20211111
DTEND;VALUE=DATE:20211112
DTSTAMP:20260422T014220
CREATED:20210406T134754Z
LAST-MODIFIED:20210406T134754Z
UID:5563-1636588800-1636675199@www.highpointfcu.com
SUMMARY:Veterans Day - CU Closed
DESCRIPTION:
URL:https://www.highpointfcu.com/event/veterans-day-cu-closed-4/
ATTACH;FMTTYPE=image/png:https://www.highpointfcu.com/wp-content/uploads/2021/04/memorial-day-3759079_1280.png
END:VEVENT
BEGIN:VEVENT
DTSTART;VALUE=DATE:20211107
DTEND;VALUE=DATE:20211108
DTSTAMP:20260422T014220
CREATED:20210406T134327Z
LAST-MODIFIED:20210406T134327Z
UID:5560-1636243200-1636329599@www.highpointfcu.com
SUMMARY:Daylight Savings Ends
DESCRIPTION:
URL:https://www.highpointfcu.com/event/daylight-savings-ends-3/
ATTACH;FMTTYPE=image/png:https://www.highpointfcu.com/wp-content/uploads/2021/04/autumn-150669_1280.png
END:VEVENT
BEGIN:VEVENT
DTSTART;VALUE=DATE:20211031
DTEND;VALUE=DATE:20211101
DTSTAMP:20260422T014220
CREATED:20210406T133801Z
LAST-MODIFIED:20210406T133801Z
UID:5557-1635638400-1635724799@www.highpointfcu.com
SUMMARY:Halloween
DESCRIPTION:
URL:https://www.highpointfcu.com/event/halloween-3/
ATTACH;FMTTYPE=image/png:https://www.highpointfcu.com/wp-content/uploads/2021/04/happy-halloween-4513418_1920.png
END:VEVENT
BEGIN:VEVENT
DTSTART;VALUE=DATE:20211011
DTEND;VALUE=DATE:20211012
DTSTAMP:20260422T014220
CREATED:20210406T133605Z
LAST-MODIFIED:20210406T133605Z
UID:5554-1633910400-1633996799@www.highpointfcu.com
SUMMARY:Columbus Day - CU Closed
DESCRIPTION:
URL:https://www.highpointfcu.com/event/columbus-day-cu-closed-5/
ATTACH;FMTTYPE=image/png:https://www.highpointfcu.com/wp-content/uploads/2021/04/sailing-ship-312417_1280.png
END:VEVENT
BEGIN:VEVENT
DTSTART;VALUE=DATE:20210922
DTEND;VALUE=DATE:20210923
DTSTAMP:20260422T014220
CREATED:20210406T132129Z
LAST-MODIFIED:20210922T172734Z
UID:5551-1632268800-1632355199@www.highpointfcu.com
SUMMARY:Autumn Begins
DESCRIPTION:
URL:https://www.highpointfcu.com/event/autumn-begins-3/
ATTACH;FMTTYPE=image/jpeg:https://www.highpointfcu.com/wp-content/uploads/2021/04/leaf-3256011_1920.jpg
END:VEVENT
BEGIN:VEVENT
DTSTART;VALUE=DATE:20210906
DTEND;VALUE=DATE:20210907
DTSTAMP:20260422T014220
CREATED:20210406T131336Z
LAST-MODIFIED:20210922T173033Z
UID:5548-1630886400-1630972799@www.highpointfcu.com
SUMMARY:Labor Day - CU Closed
DESCRIPTION:
URL:https://www.highpointfcu.com/event/labor-day-cu-closed-5/
ATTACH;FMTTYPE=image/png:https://www.highpointfcu.com/wp-content/uploads/2021/04/labor-day-4555624_1280.png
END:VEVENT
BEGIN:VEVENT
DTSTART;VALUE=DATE:20210705
DTEND;VALUE=DATE:20210706
DTSTAMP:20260422T014220
CREATED:20210405T210332Z
LAST-MODIFIED:20210405T210332Z
UID:5533-1625443200-1625529599@www.highpointfcu.com
SUMMARY:Independence Day (Observed) - CU Closed
DESCRIPTION:
URL:https://www.highpointfcu.com/event/independence-day-observed-cu-closed/
ATTACH;FMTTYPE=image/jpeg:https://www.highpointfcu.com/wp-content/uploads/2021/04/board-895397_1920.jpg
END:VEVENT
BEGIN:VEVENT
DTSTART;VALUE=DATE:20210704
DTEND;VALUE=DATE:20210705
DTSTAMP:20260422T014220
CREATED:20210405T210129Z
LAST-MODIFIED:20210405T210129Z
UID:5531-1625356800-1625443199@www.highpointfcu.com
SUMMARY:Independence Day
DESCRIPTION:
URL:https://www.highpointfcu.com/event/independence-day-2/
ATTACH;FMTTYPE=:
END:VEVENT
BEGIN:VEVENT
DTSTART;VALUE=DATE:20210621
DTEND;VALUE=DATE:20210622
DTSTAMP:20260422T014220
CREATED:20210405T210014Z
LAST-MODIFIED:20210405T210014Z
UID:5529-1624233600-1624319999@www.highpointfcu.com
SUMMARY:Summer Begins
DESCRIPTION:
URL:https://www.highpointfcu.com/event/summer-begins-3/
ATTACH;FMTTYPE=image/png:https://www.highpointfcu.com/wp-content/uploads/2021/04/summer-5988470_1280.png
END:VEVENT
BEGIN:VEVENT
DTSTART;VALUE=DATE:20210620
DTEND;VALUE=DATE:20210621
DTSTAMP:20260422T014220
CREATED:20210405T205904Z
LAST-MODIFIED:20210405T205904Z
UID:5527-1624147200-1624233599@www.highpointfcu.com
SUMMARY:Father's Day
DESCRIPTION:
URL:https://www.highpointfcu.com/event/fathers-day-3/
ATTACH;FMTTYPE=image/png:https://www.highpointfcu.com/wp-content/uploads/2021/04/fathers-day-1430155_1920.png
END:VEVENT
BEGIN:VEVENT
DTSTART;VALUE=DATE:20210614
DTEND;VALUE=DATE:20210615
DTSTAMP:20260422T014220
CREATED:20210405T205720Z
LAST-MODIFIED:20210405T205720Z
UID:5525-1623628800-1623715199@www.highpointfcu.com
SUMMARY:Flag Day
DESCRIPTION:
URL:https://www.highpointfcu.com/event/flag-day-3/
ATTACH;FMTTYPE=:
END:VEVENT
BEGIN:VEVENT
DTSTART;VALUE=DATE:20210531
DTEND;VALUE=DATE:20210601
DTSTAMP:20260422T014220
CREATED:20210405T190359Z
LAST-MODIFIED:20210405T190359Z
UID:5522-1622419200-1622505599@www.highpointfcu.com
SUMMARY:Memorial Day - CU Closed
DESCRIPTION:
URL:https://www.highpointfcu.com/event/memorial-day-cu-closed-5/
ATTACH;FMTTYPE=image/jpeg:https://www.highpointfcu.com/wp-content/uploads/2021/04/memorial-day-872469_1920.jpg
END:VEVENT
BEGIN:VEVENT
DTSTART;TZID=UTC:20210517T163000
DTEND;TZID=UTC:20210517T170000
DTSTAMP:20260422T014220
CREATED:20210405T190136Z
LAST-MODIFIED:20210405T190136Z
UID:5518-1621269000-1621270800@www.highpointfcu.com
SUMMARY:Annual Meeting
DESCRIPTION:
URL:https://www.highpointfcu.com/event/annual-meeting/
ATTACH;FMTTYPE=image/png:https://www.highpointfcu.com/wp-content/uploads/2021/04/group-1962592_1280.png
END:VEVENT
BEGIN:VEVENT
DTSTART;VALUE=DATE:20210509
DTEND;VALUE=DATE:20210510
DTSTAMP:20260422T014220
CREATED:20210405T190336Z
LAST-MODIFIED:20210405T190336Z
UID:5520-1620518400-1620604799@www.highpointfcu.com
SUMMARY:Mother's Day
DESCRIPTION:
URL:https://www.highpointfcu.com/event/mothers-day-4/
ATTACH;FMTTYPE=:
END:VEVENT
BEGIN:VEVENT
DTSTART;VALUE=DATE:20201231
DTEND;VALUE=DATE:20210101
DTSTAMP:20260422T014220
CREATED:20200130T194514Z
LAST-MODIFIED:20200130T194514Z
UID:3846-1609372800-1609459199@www.highpointfcu.com
SUMMARY:New Year's Eve - CU Closes at 3:30pm
DESCRIPTION:
URL:https://www.highpointfcu.com/event/new-years-eve-cu-closes-at-330pm-2/
END:VEVENT
BEGIN:VEVENT
DTSTART;VALUE=DATE:20201225
DTEND;VALUE=DATE:20201226
DTSTAMP:20260422T014220
CREATED:20200130T194355Z
LAST-MODIFIED:20200130T194355Z
UID:3844-1608854400-1608940799@www.highpointfcu.com
SUMMARY:Christmas Day - CU Closed
DESCRIPTION:
URL:https://www.highpointfcu.com/event/christmas-day-cu-closed-4/
END:VEVENT
BEGIN:VEVENT
DTSTART;VALUE=DATE:20201224
DTEND;VALUE=DATE:20201225
DTSTAMP:20260422T014220
CREATED:20200130T194220Z
LAST-MODIFIED:20200130T194220Z
UID:3842-1608768000-1608854399@www.highpointfcu.com
SUMMARY:Christmas Eve - CU Closes at 12:30pm
DESCRIPTION:
URL:https://www.highpointfcu.com/event/christmas-eve-cu-closes-at-330pm/
END:VEVENT
END:VCALENDAR