BEGIN:VCALENDAR
VERSION:2.0
PRODID:-//High Point FCU - ECPv6.15.20//NONSGML v1.0//EN
CALSCALE:GREGORIAN
METHOD:PUBLISH
X-WR-CALNAME:High Point FCU
X-ORIGINAL-URL:https://www.highpointfcu.com
X-WR-CALDESC:Events for High Point FCU
REFRESH-INTERVAL;VALUE=DURATION:PT1H
X-Robots-Tag:noindex
X-PUBLISHED-TTL:PT1H
BEGIN:VTIMEZONE
TZID:UTC
BEGIN:STANDARD
TZOFFSETFROM:+0000
TZOFFSETTO:+0000
TZNAME:UTC
DTSTART:20250101T000000
END:STANDARD
END:VTIMEZONE
BEGIN:VEVENT
DTSTART;VALUE=DATE:20260422
DTEND;VALUE=DATE:20260423
DTSTAMP:20260421T184433
CREATED:20260102T174851Z
LAST-MODIFIED:20260102T174851Z
UID:13025-1776816000-1776902399@www.highpointfcu.com
SUMMARY:Earth Day
DESCRIPTION:
URL:https://www.highpointfcu.com/event/earth-day-3/
END:VEVENT
BEGIN:VEVENT
DTSTART;VALUE=DATE:20260510
DTEND;VALUE=DATE:20260511
DTSTAMP:20260421T184433
CREATED:20260102T174929Z
LAST-MODIFIED:20260102T174929Z
UID:13027-1778371200-1778457599@www.highpointfcu.com
SUMMARY:Mother's Day
DESCRIPTION:
URL:https://www.highpointfcu.com/event/mothers-day-8/
END:VEVENT
BEGIN:VEVENT
DTSTART;VALUE=DATE:20260525
DTEND;VALUE=DATE:20260526
DTSTAMP:20260421T184433
CREATED:20260102T175009Z
LAST-MODIFIED:20260102T175009Z
UID:13029-1779667200-1779753599@www.highpointfcu.com
SUMMARY:Memorial Day - CU Closed
DESCRIPTION:
URL:https://www.highpointfcu.com/event/memorial-day-cu-closed-10/
END:VEVENT
BEGIN:VEVENT
DTSTART;VALUE=DATE:20260614
DTEND;VALUE=DATE:20260615
DTSTAMP:20260421T184433
CREATED:20260102T175052Z
LAST-MODIFIED:20260102T175052Z
UID:13031-1781395200-1781481599@www.highpointfcu.com
SUMMARY:Flag Day
DESCRIPTION:
URL:https://www.highpointfcu.com/event/flag-day-6/
END:VEVENT
BEGIN:VEVENT
DTSTART;VALUE=DATE:20260619
DTEND;VALUE=DATE:20260620
DTSTAMP:20260421T184433
CREATED:20260102T175135Z
LAST-MODIFIED:20260102T175135Z
UID:13033-1781827200-1781913599@www.highpointfcu.com
SUMMARY:Juneteenth - CU Closed
DESCRIPTION:
URL:https://www.highpointfcu.com/event/juneteenth-cu-closed-3/
END:VEVENT
BEGIN:VEVENT
DTSTART;VALUE=DATE:20260621
DTEND;VALUE=DATE:20260622
DTSTAMP:20260421T184433
CREATED:20260102T175215Z
LAST-MODIFIED:20260102T175215Z
UID:13035-1782000000-1782086399@www.highpointfcu.com
SUMMARY:Father's Day / Summer Begins
DESCRIPTION:
URL:https://www.highpointfcu.com/event/fathers-day-summer-begins/
END:VEVENT
BEGIN:VEVENT
DTSTART;VALUE=DATE:20260704
DTEND;VALUE=DATE:20260705
DTSTAMP:20260421T184433
CREATED:20260102T175301Z
LAST-MODIFIED:20260102T175301Z
UID:13037-1783123200-1783209599@www.highpointfcu.com
SUMMARY:Independence Day - CU Closed
DESCRIPTION:
URL:https://www.highpointfcu.com/event/independence-day-cu-closed-7/
END:VEVENT
BEGIN:VEVENT
DTSTART;VALUE=DATE:20260907
DTEND;VALUE=DATE:20260908
DTSTAMP:20260421T184433
CREATED:20260102T175353Z
LAST-MODIFIED:20260102T175353Z
UID:13039-1788739200-1788825599@www.highpointfcu.com
SUMMARY:Labor Day - CU Closed
DESCRIPTION:
URL:https://www.highpointfcu.com/event/labor-day-cu-closed-10/
END:VEVENT
BEGIN:VEVENT
DTSTART;VALUE=DATE:20260923
DTEND;VALUE=DATE:20260924
DTSTAMP:20260421T184433
CREATED:20260102T175435Z
LAST-MODIFIED:20260102T175435Z
UID:13041-1790121600-1790207999@www.highpointfcu.com
SUMMARY:Autumn Begins
DESCRIPTION:
URL:https://www.highpointfcu.com/event/autumn-begins-6/
END:VEVENT
BEGIN:VEVENT
DTSTART;VALUE=DATE:20261012
DTEND;VALUE=DATE:20261013
DTSTAMP:20260421T184433
CREATED:20260102T175524Z
LAST-MODIFIED:20260102T175524Z
UID:13043-1791763200-1791849599@www.highpointfcu.com
SUMMARY:Columbus Day - CU Closed
DESCRIPTION:
URL:https://www.highpointfcu.com/event/columbus-day-cu-closed-9/
END:VEVENT
BEGIN:VEVENT
DTSTART;VALUE=DATE:20261031
DTEND;VALUE=DATE:20261101
DTSTAMP:20260421T184433
CREATED:20260102T175603Z
LAST-MODIFIED:20260102T175603Z
UID:13045-1793404800-1793491199@www.highpointfcu.com
SUMMARY:Halloween
DESCRIPTION:
URL:https://www.highpointfcu.com/event/halloween-6/
END:VEVENT
BEGIN:VEVENT
DTSTART;VALUE=DATE:20261101
DTEND;VALUE=DATE:20261102
DTSTAMP:20260421T184433
CREATED:20260102T175650Z
LAST-MODIFIED:20260102T175650Z
UID:13047-1793491200-1793577599@www.highpointfcu.com
SUMMARY:Daylight Savings Ends
DESCRIPTION:
URL:https://www.highpointfcu.com/event/daylight-savings-ends-6/
END:VEVENT
BEGIN:VEVENT
DTSTART;VALUE=DATE:20261111
DTEND;VALUE=DATE:20261112
DTSTAMP:20260421T184433
CREATED:20260102T175722Z
LAST-MODIFIED:20260102T175722Z
UID:13049-1794355200-1794441599@www.highpointfcu.com
SUMMARY:Veterans Day - CU Closed
DESCRIPTION:
URL:https://www.highpointfcu.com/event/veterans-day-cu-closed-8/
END:VEVENT
BEGIN:VEVENT
DTSTART;VALUE=DATE:20261126
DTEND;VALUE=DATE:20261127
DTSTAMP:20260421T184433
CREATED:20260102T175814Z
LAST-MODIFIED:20260102T175814Z
UID:13051-1795651200-1795737599@www.highpointfcu.com
SUMMARY:Thanksgiving Day - CU Closed
DESCRIPTION:
URL:https://www.highpointfcu.com/event/thanksgiving-day-cu-closed-10/
END:VEVENT
BEGIN:VEVENT
DTSTART;VALUE=DATE:20261221
DTEND;VALUE=DATE:20261222
DTSTAMP:20260421T184433
CREATED:20260102T175901Z
LAST-MODIFIED:20260102T175901Z
UID:13053-1797811200-1797897599@www.highpointfcu.com
SUMMARY:Winter Begins
DESCRIPTION:
URL:https://www.highpointfcu.com/event/winter-begins-6/
END:VEVENT
BEGIN:VEVENT
DTSTART;VALUE=DATE:20261224
DTEND;VALUE=DATE:20261225
DTSTAMP:20260421T184433
CREATED:20260102T175956Z
LAST-MODIFIED:20260102T175956Z
UID:13055-1798070400-1798156799@www.highpointfcu.com
SUMMARY:Christmas Eve - CU Closes at 12:30 PM
DESCRIPTION:
URL:https://www.highpointfcu.com/event/christmas-eve-cu-closes-at-1230-pm-2/
END:VEVENT
BEGIN:VEVENT
DTSTART;VALUE=DATE:20261225
DTEND;VALUE=DATE:20261226
DTSTAMP:20260421T184433
CREATED:20260102T180026Z
LAST-MODIFIED:20260102T180026Z
UID:13057-1798156800-1798243199@www.highpointfcu.com
SUMMARY:Christmas Day - CU Closed
DESCRIPTION:
URL:https://www.highpointfcu.com/event/christmas-day-cu-closed-8/
END:VEVENT
BEGIN:VEVENT
DTSTART;VALUE=DATE:20261231
DTEND;VALUE=DATE:20270101
DTSTAMP:20260421T184433
CREATED:20260102T180105Z
LAST-MODIFIED:20260102T180105Z
UID:13059-1798675200-1798761599@www.highpointfcu.com
SUMMARY:New Year's Eve - CU Closes at 3:30 PM
DESCRIPTION:
URL:https://www.highpointfcu.com/event/new-years-eve-cu-closes-at-330-pm-2/
END:VEVENT
BEGIN:VEVENT
DTSTART;VALUE=DATE:20270101
DTEND;VALUE=DATE:20270102
DTSTAMP:20260421T184433
CREATED:20260102T180148Z
LAST-MODIFIED:20260102T180148Z
UID:13061-1798761600-1798847999@www.highpointfcu.com
SUMMARY:New Year's Day - CU Closed
DESCRIPTION:
URL:https://www.highpointfcu.com/event/new-years-day-cu-closed-6/
END:VEVENT
END:VCALENDAR