BEGIN:VCALENDAR
VERSION:2.0
PRODID:-//High Point FCU - ECPv6.15.20//NONSGML v1.0//EN
CALSCALE:GREGORIAN
METHOD:PUBLISH
X-WR-CALNAME:High Point FCU
X-ORIGINAL-URL:https://www.highpointfcu.com
X-WR-CALDESC:Events for High Point FCU
REFRESH-INTERVAL;VALUE=DURATION:PT1H
X-Robots-Tag:noindex
X-PUBLISHED-TTL:PT1H
BEGIN:VTIMEZONE
TZID:UTC
BEGIN:STANDARD
TZOFFSETFROM:+0000
TZOFFSETTO:+0000
TZNAME:UTC
DTSTART:20240101T000000
END:STANDARD
END:VTIMEZONE
BEGIN:VEVENT
DTSTART;TZID=UTC:20250710T110000
DTEND;TZID=UTC:20250710T140000
DTSTAMP:20260421T175702
CREATED:20250625T134903Z
LAST-MODIFIED:20250625T134903Z
UID:12603-1752145200-1752156000@www.highpointfcu.com
SUMMARY:Shred Day
DESCRIPTION:
URL:https://www.highpointfcu.com/event/shred-day-5/
END:VEVENT
BEGIN:VEVENT
DTSTART;TZID=UTC:20250718T210000
DTEND;TZID=UTC:20250718T230000
DTSTAMP:20260421T175702
CREATED:20250625T134956Z
LAST-MODIFIED:20250625T134956Z
UID:12605-1752872400-1752879600@www.highpointfcu.com
SUMMARY:Outdoor Family Movie Night - St. Bonaventure University
DESCRIPTION:
URL:https://www.highpointfcu.com/event/outdoor-family-movie-night-st-bonaventure-university/
END:VEVENT
BEGIN:VEVENT
DTSTART;TZID=UTC:20250807T110000
DTEND;TZID=UTC:20250807T140000
DTSTAMP:20260421T175702
CREATED:20250625T135132Z
LAST-MODIFIED:20250625T135132Z
UID:12607-1754564400-1754575200@www.highpointfcu.com
SUMMARY:Member Appreciation Day - Wayne St
DESCRIPTION:
URL:https://www.highpointfcu.com/event/member-appreciation-day-wayne-st-2/
END:VEVENT
BEGIN:VEVENT
DTSTART;TZID=UTC:20250821T110000
DTEND;TZID=UTC:20250821T140000
DTSTAMP:20260421T175702
CREATED:20250625T135220Z
LAST-MODIFIED:20250625T135220Z
UID:12609-1755774000-1755784800@www.highpointfcu.com
SUMMARY:Member Appreciation Day - Portville Branch
DESCRIPTION:
URL:https://www.highpointfcu.com/event/member-appreciation-day-portville-branch-2/
END:VEVENT
BEGIN:VEVENT
DTSTART;VALUE=DATE:20250901
DTEND;VALUE=DATE:20250902
DTSTAMP:20260421T175702
CREATED:20250102T193545Z
LAST-MODIFIED:20250102T193545Z
UID:11867-1756684800-1756771199@www.highpointfcu.com
SUMMARY:Labor Day - CU Closed
DESCRIPTION:
URL:https://www.highpointfcu.com/event/labor-day-cu-closed-9/
END:VEVENT
BEGIN:VEVENT
DTSTART;VALUE=DATE:20250922
DTEND;VALUE=DATE:20250923
DTSTAMP:20260421T175702
CREATED:20250102T193620Z
LAST-MODIFIED:20250102T193620Z
UID:11869-1758499200-1758585599@www.highpointfcu.com
SUMMARY:Autumn Begins
DESCRIPTION:
URL:https://www.highpointfcu.com/event/autumn-begins-5/
END:VEVENT
BEGIN:VEVENT
DTSTART;VALUE=DATE:20251013
DTEND;VALUE=DATE:20251014
DTSTAMP:20260421T175702
CREATED:20250102T193727Z
LAST-MODIFIED:20250102T193727Z
UID:11871-1760313600-1760399999@www.highpointfcu.com
SUMMARY:Columbus Day - CU Closed
DESCRIPTION:
URL:https://www.highpointfcu.com/event/columbus-day-cu-closed-8/
END:VEVENT
BEGIN:VEVENT
DTSTART;VALUE=DATE:20251102
DTEND;VALUE=DATE:20251103
DTSTAMP:20260421T175702
CREATED:20250102T193821Z
LAST-MODIFIED:20250102T193821Z
UID:11873-1762041600-1762127999@www.highpointfcu.com
SUMMARY:Daylight Savings Ends
DESCRIPTION:
URL:https://www.highpointfcu.com/event/daylight-savings-ends-5/
END:VEVENT
BEGIN:VEVENT
DTSTART;VALUE=DATE:20251111
DTEND;VALUE=DATE:20251112
DTSTAMP:20260421T175702
CREATED:20250102T193855Z
LAST-MODIFIED:20250102T193855Z
UID:11875-1762819200-1762905599@www.highpointfcu.com
SUMMARY:Veterans Day - CU Closed
DESCRIPTION:
URL:https://www.highpointfcu.com/event/veterans-day-cu-closed-7/
END:VEVENT
BEGIN:VEVENT
DTSTART;VALUE=DATE:20251127
DTEND;VALUE=DATE:20251128
DTSTAMP:20260421T175702
CREATED:20250102T193934Z
LAST-MODIFIED:20250102T193934Z
UID:11877-1764201600-1764287999@www.highpointfcu.com
SUMMARY:Thanksgiving Day - CU Closed
DESCRIPTION:
URL:https://www.highpointfcu.com/event/thanksgiving-day-cu-closed-9/
END:VEVENT
BEGIN:VEVENT
DTSTART;VALUE=DATE:20251221
DTEND;VALUE=DATE:20251222
DTSTAMP:20260421T175702
CREATED:20250102T194016Z
LAST-MODIFIED:20250102T194016Z
UID:11879-1766275200-1766361599@www.highpointfcu.com
SUMMARY:Winter Begins
DESCRIPTION:
URL:https://www.highpointfcu.com/event/winter-begins-5/
END:VEVENT
BEGIN:VEVENT
DTSTART;VALUE=DATE:20251224
DTEND;VALUE=DATE:20251225
DTSTAMP:20260421T175702
CREATED:20250102T194104Z
LAST-MODIFIED:20250102T194104Z
UID:11881-1766534400-1766620799@www.highpointfcu.com
SUMMARY:Christmas Eve - CU Closes at 12:30 PM
DESCRIPTION:
URL:https://www.highpointfcu.com/event/christmas-eve-cu-closes-at-1230-pm/
END:VEVENT
BEGIN:VEVENT
DTSTART;VALUE=DATE:20251225
DTEND;VALUE=DATE:20251226
DTSTAMP:20260421T175702
CREATED:20250102T194150Z
LAST-MODIFIED:20250102T194150Z
UID:11883-1766620800-1766707199@www.highpointfcu.com
SUMMARY:Christmas Day - CU Closed
DESCRIPTION:
URL:https://www.highpointfcu.com/event/christmas-day-cu-closed-7/
END:VEVENT
BEGIN:VEVENT
DTSTART;VALUE=DATE:20251231
DTEND;VALUE=DATE:20260101
DTSTAMP:20260421T175702
CREATED:20250102T194231Z
LAST-MODIFIED:20250102T194231Z
UID:11885-1767139200-1767225599@www.highpointfcu.com
SUMMARY:New Year's Eve - CU Closes at 3:30 PM
DESCRIPTION:
URL:https://www.highpointfcu.com/event/new-years-eve-cu-closes-at-330-pm/
END:VEVENT
BEGIN:VEVENT
DTSTART;VALUE=DATE:20260101
DTEND;VALUE=DATE:20260102
DTSTAMP:20260421T175702
CREATED:20260102T174045Z
LAST-MODIFIED:20260102T174045Z
UID:13005-1767225600-1767311999@www.highpointfcu.com
SUMMARY:New Year's Day - CU Closed
DESCRIPTION:
URL:https://www.highpointfcu.com/event/new-years-day-cu-closed-5/
END:VEVENT
BEGIN:VEVENT
DTSTART;VALUE=DATE:20260119
DTEND;VALUE=DATE:20260120
DTSTAMP:20260421T175702
CREATED:20260102T174140Z
LAST-MODIFIED:20260102T174140Z
UID:13007-1768780800-1768867199@www.highpointfcu.com
SUMMARY:Martin Luther King Jr. Day - CU Closed
DESCRIPTION:
URL:https://www.highpointfcu.com/event/martin-luther-king-jr-day-cu-closed-4/
END:VEVENT
BEGIN:VEVENT
DTSTART;VALUE=DATE:20260202
DTEND;VALUE=DATE:20260203
DTSTAMP:20260421T175702
CREATED:20260102T174310Z
LAST-MODIFIED:20260102T174310Z
UID:13009-1769990400-1770076799@www.highpointfcu.com
SUMMARY:Groundhog Day
DESCRIPTION:
URL:https://www.highpointfcu.com/event/groundhog-day-3/
END:VEVENT
BEGIN:VEVENT
DTSTART;VALUE=DATE:20260214
DTEND;VALUE=DATE:20260215
DTSTAMP:20260421T175702
CREATED:20260102T174550Z
LAST-MODIFIED:20260102T174550Z
UID:13015-1771027200-1771113599@www.highpointfcu.com
SUMMARY:Valentine's Day
DESCRIPTION:
URL:https://www.highpointfcu.com/event/valentines-day-5/
END:VEVENT
BEGIN:VEVENT
DTSTART;VALUE=DATE:20260216
DTEND;VALUE=DATE:20260217
DTSTAMP:20260421T175702
CREATED:20260102T174522Z
LAST-MODIFIED:20260102T174522Z
UID:13013-1771200000-1771286399@www.highpointfcu.com
SUMMARY:Presidents' Day - CU Closed
DESCRIPTION:
URL:https://www.highpointfcu.com/event/presidents-day-cu-closed-8/
END:VEVENT
BEGIN:VEVENT
DTSTART;VALUE=DATE:20260308
DTEND;VALUE=DATE:20260309
DTSTAMP:20260421T175702
CREATED:20260102T174628Z
LAST-MODIFIED:20260102T174628Z
UID:13017-1772928000-1773014399@www.highpointfcu.com
SUMMARY:Daylight Saving Begins
DESCRIPTION:
URL:https://www.highpointfcu.com/event/daylight-saving-begins-3/
END:VEVENT
BEGIN:VEVENT
DTSTART;VALUE=DATE:20260317
DTEND;VALUE=DATE:20260318
DTSTAMP:20260421T175702
CREATED:20260102T174705Z
LAST-MODIFIED:20260102T174705Z
UID:13019-1773705600-1773791999@www.highpointfcu.com
SUMMARY:St. Patrick's Day
DESCRIPTION:
URL:https://www.highpointfcu.com/event/st-patricks-day-6/
END:VEVENT
BEGIN:VEVENT
DTSTART;VALUE=DATE:20260320
DTEND;VALUE=DATE:20260321
DTSTAMP:20260421T175702
CREATED:20260102T174739Z
LAST-MODIFIED:20260102T174739Z
UID:13021-1773964800-1774051199@www.highpointfcu.com
SUMMARY:First Day of Spring
DESCRIPTION:
URL:https://www.highpointfcu.com/event/first-day-of-spring-6/
END:VEVENT
BEGIN:VEVENT
DTSTART;VALUE=DATE:20260405
DTEND;VALUE=DATE:20260406
DTSTAMP:20260421T175702
CREATED:20260102T174818Z
LAST-MODIFIED:20260102T174818Z
UID:13023-1775347200-1775433599@www.highpointfcu.com
SUMMARY:Easter
DESCRIPTION:
URL:https://www.highpointfcu.com/event/easter-3/
END:VEVENT
BEGIN:VEVENT
DTSTART;VALUE=DATE:20260422
DTEND;VALUE=DATE:20260423
DTSTAMP:20260421T175702
CREATED:20260102T174851Z
LAST-MODIFIED:20260102T174851Z
UID:13025-1776816000-1776902399@www.highpointfcu.com
SUMMARY:Earth Day
DESCRIPTION:
URL:https://www.highpointfcu.com/event/earth-day-3/
END:VEVENT
BEGIN:VEVENT
DTSTART;VALUE=DATE:20260510
DTEND;VALUE=DATE:20260511
DTSTAMP:20260421T175702
CREATED:20260102T174929Z
LAST-MODIFIED:20260102T174929Z
UID:13027-1778371200-1778457599@www.highpointfcu.com
SUMMARY:Mother's Day
DESCRIPTION:
URL:https://www.highpointfcu.com/event/mothers-day-8/
END:VEVENT
BEGIN:VEVENT
DTSTART;VALUE=DATE:20260525
DTEND;VALUE=DATE:20260526
DTSTAMP:20260421T175702
CREATED:20260102T175009Z
LAST-MODIFIED:20260102T175009Z
UID:13029-1779667200-1779753599@www.highpointfcu.com
SUMMARY:Memorial Day - CU Closed
DESCRIPTION:
URL:https://www.highpointfcu.com/event/memorial-day-cu-closed-10/
END:VEVENT
BEGIN:VEVENT
DTSTART;VALUE=DATE:20260614
DTEND;VALUE=DATE:20260615
DTSTAMP:20260421T175702
CREATED:20260102T175052Z
LAST-MODIFIED:20260102T175052Z
UID:13031-1781395200-1781481599@www.highpointfcu.com
SUMMARY:Flag Day
DESCRIPTION:
URL:https://www.highpointfcu.com/event/flag-day-6/
END:VEVENT
BEGIN:VEVENT
DTSTART;VALUE=DATE:20260619
DTEND;VALUE=DATE:20260620
DTSTAMP:20260421T175702
CREATED:20260102T175135Z
LAST-MODIFIED:20260102T175135Z
UID:13033-1781827200-1781913599@www.highpointfcu.com
SUMMARY:Juneteenth - CU Closed
DESCRIPTION:
URL:https://www.highpointfcu.com/event/juneteenth-cu-closed-3/
END:VEVENT
BEGIN:VEVENT
DTSTART;VALUE=DATE:20260621
DTEND;VALUE=DATE:20260622
DTSTAMP:20260421T175702
CREATED:20260102T175215Z
LAST-MODIFIED:20260102T175215Z
UID:13035-1782000000-1782086399@www.highpointfcu.com
SUMMARY:Father's Day / Summer Begins
DESCRIPTION:
URL:https://www.highpointfcu.com/event/fathers-day-summer-begins/
END:VEVENT
BEGIN:VEVENT
DTSTART;VALUE=DATE:20260704
DTEND;VALUE=DATE:20260705
DTSTAMP:20260421T175702
CREATED:20260102T175301Z
LAST-MODIFIED:20260102T175301Z
UID:13037-1783123200-1783209599@www.highpointfcu.com
SUMMARY:Independence Day - CU Closed
DESCRIPTION:
URL:https://www.highpointfcu.com/event/independence-day-cu-closed-7/
END:VEVENT
END:VCALENDAR