BEGIN:VCALENDAR
VERSION:2.0
PRODID:-//High Point FCU - ECPv6.15.20//NONSGML v1.0//EN
CALSCALE:GREGORIAN
METHOD:PUBLISH
X-WR-CALNAME:High Point FCU
X-ORIGINAL-URL:https://www.highpointfcu.com
X-WR-CALDESC:Events for High Point FCU
REFRESH-INTERVAL;VALUE=DURATION:PT1H
X-Robots-Tag:noindex
X-PUBLISHED-TTL:PT1H
BEGIN:VTIMEZONE
TZID:UTC
BEGIN:STANDARD
TZOFFSETFROM:+0000
TZOFFSETTO:+0000
TZNAME:UTC
DTSTART:20160101T000000
END:STANDARD
END:VTIMEZONE
BEGIN:VEVENT
DTSTART;VALUE=DATE:20170514
DTEND;VALUE=DATE:20170515
DTSTAMP:20260423T011034
CREATED:20170405T175909Z
LAST-MODIFIED:20170405T175909Z
UID:1342-1494720000-1494806399@www.highpointfcu.com
SUMMARY:Mother's Day
DESCRIPTION:
URL:https://www.highpointfcu.com/event/mothers-day/
END:VEVENT
BEGIN:VEVENT
DTSTART;TZID=UTC:20170419T080000
DTEND;TZID=UTC:20170419T170000
DTSTAMP:20260423T011034
CREATED:20170417T164521Z
LAST-MODIFIED:20170417T164521Z
UID:1822-1492588800-1492621200@www.highpointfcu.com
SUMMARY:Launch New Website
DESCRIPTION:Launch New Website – signon & passwords to Eteller remain unchanged.
URL:https://www.highpointfcu.com/event/1822/
END:VEVENT
BEGIN:VEVENT
DTSTART;VALUE=DATE:20170416
DTEND;VALUE=DATE:20170417
DTSTAMP:20260423T011034
CREATED:20170405T175843Z
LAST-MODIFIED:20170405T175843Z
UID:1340-1492300800-1492387199@www.highpointfcu.com
SUMMARY:Easter Sunday
DESCRIPTION:
URL:https://www.highpointfcu.com/event/easter-sunday/
END:VEVENT
BEGIN:VEVENT
DTSTART;VALUE=DATE:20170220
DTEND;VALUE=DATE:20170221
DTSTAMP:20260423T011034
CREATED:20170207T191040Z
LAST-MODIFIED:20170207T191040Z
UID:797-1487548800-1487635199@www.highpointfcu.com
SUMMARY:Presidents' Day
DESCRIPTION:Presidents’ Day – CU Closed.
URL:https://www.highpointfcu.com/event/797/
END:VEVENT
BEGIN:VEVENT
DTSTART;VALUE=DATE:20170219
DTEND;VALUE=DATE:20170220
DTSTAMP:20260423T011034
CREATED:20170207T191400Z
LAST-MODIFIED:20170207T191400Z
UID:801-1487462400-1487548799@www.highpointfcu.com
SUMMARY:Credit Card Expires
DESCRIPTION:Current Credit Cards expire at 11:59PM
URL:https://www.highpointfcu.com/event/credit-card-expires/
END:VEVENT
END:VCALENDAR