BEGIN:VCALENDAR
VERSION:2.0
PRODID:-//High Point FCU - ECPv6.15.20//NONSGML v1.0//EN
CALSCALE:GREGORIAN
METHOD:PUBLISH
X-WR-CALNAME:High Point FCU
X-ORIGINAL-URL:https://www.highpointfcu.com
X-WR-CALDESC:Events for High Point FCU
REFRESH-INTERVAL;VALUE=DURATION:PT1H
X-Robots-Tag:noindex
X-PUBLISHED-TTL:PT1H
BEGIN:VTIMEZONE
TZID:UTC
BEGIN:STANDARD
TZOFFSETFROM:+0000
TZOFFSETTO:+0000
TZNAME:UTC
DTSTART:20160101T000000
END:STANDARD
END:VTIMEZONE
BEGIN:VEVENT
DTSTART;TZID=UTC:20180830T110000
DTEND;TZID=UTC:20180830T160000
DTSTAMP:20260422T214538
CREATED:20180904T165716Z
LAST-MODIFIED:20180904T165716Z
UID:2893-1535626800-1535644800@www.highpointfcu.com
SUMMARY:Main Office Member Appreciation
DESCRIPTION:
URL:https://www.highpointfcu.com/event/main-office-member-appreciation/
END:VEVENT
BEGIN:VEVENT
DTSTART;TZID=UTC:20180728T203000
DTEND;TZID=UTC:20180728T233000
DTSTAMP:20260422T214538
CREATED:20180625T160221Z
LAST-MODIFIED:20180625T160221Z
UID:2608-1532809800-1532820600@www.highpointfcu.com
SUMMARY:Pop-Up Cinema
DESCRIPTION:Summer Movie Series- featuring Jurassic Park
URL:https://www.highpointfcu.com/event/pop-up-cinema-6/
LOCATION:JCC\, 260 N. Union St.\, Olean\, NY\, 14760\, United States
END:VEVENT
BEGIN:VEVENT
DTSTART;TZID=UTC:20180721T203000
DTEND;TZID=UTC:20180721T233000
DTSTAMP:20260422T214538
CREATED:20180625T160135Z
LAST-MODIFIED:20180625T160135Z
UID:2606-1532205000-1532215800@www.highpointfcu.com
SUMMARY:Pop-Up Cinema
DESCRIPTION:Summer Movie Series- featuring Wizard of Oz
URL:https://www.highpointfcu.com/event/pop-up-cinema-5/
LOCATION:JCC\, 260 N. Union St.\, Olean\, NY\, 14760\, United States
END:VEVENT
BEGIN:VEVENT
DTSTART;TZID=UTC:20180714T203000
DTEND;TZID=UTC:20180714T233000
DTSTAMP:20260422T214538
CREATED:20180625T155943Z
LAST-MODIFIED:20180625T155943Z
UID:2604-1531600200-1531611000@www.highpointfcu.com
SUMMARY:Pop-Up Cinema
DESCRIPTION:Summer Movie Series- featuring Wonder
URL:https://www.highpointfcu.com/event/pop-up-cinema-4/
LOCATION:JCC\, 260 N. Union St.\, Olean\, NY\, 14760\, United States
END:VEVENT
BEGIN:VEVENT
DTSTART;TZID=UTC:20180707T203000
DTEND;TZID=UTC:20180707T233000
DTSTAMP:20260422T214538
CREATED:20180625T155759Z
LAST-MODIFIED:20180625T155759Z
UID:2602-1530995400-1531006200@www.highpointfcu.com
SUMMARY:Pop-Up Cinema
DESCRIPTION:Summer Movie Series- featuring Star Wars: The Last Jedi
URL:https://www.highpointfcu.com/event/pop-up-cinema-3/
LOCATION:JCC\, 260 N. Union St.\, Olean\, NY\, 14760\, United States
END:VEVENT
BEGIN:VEVENT
DTSTART;VALUE=DATE:20180704
DTEND;VALUE=DATE:20180705
DTSTAMP:20260422T214538
CREATED:20180625T160320Z
LAST-MODIFIED:20180625T160320Z
UID:2610-1530662400-1530748799@www.highpointfcu.com
SUMMARY:Independence Day
DESCRIPTION:Independence Day: CU Closed. \nWishing you a safe and happy holiday!
URL:https://www.highpointfcu.com/event/independence-day/
END:VEVENT
BEGIN:VEVENT
DTSTART;TZID=UTC:20180630T203000
DTEND;TZID=UTC:20180630T233000
DTSTAMP:20260422T214538
CREATED:20180601T210201Z
LAST-MODIFIED:20180601T210201Z
UID:2548-1530390600-1530401400@www.highpointfcu.com
SUMMARY:Pop-Up Cinema
DESCRIPTION:Summer Movie Series- featuring Thor: Ragnarok
URL:https://www.highpointfcu.com/event/pop-up-cinema-2/
LOCATION:JCC\, 260 N. Union St.\, Olean\, NY\, 14760\, United States
END:VEVENT
BEGIN:VEVENT
DTSTART;TZID=UTC:20180629T110000
DTEND;TZID=UTC:20180629T160000
DTSTAMP:20260422T214538
CREATED:20180601T205743Z
LAST-MODIFIED:20180601T205743Z
UID:2542-1530270000-1530288000@www.highpointfcu.com
SUMMARY:Firemen's Hot Dog Sale
DESCRIPTION:Annual Firemen’s Hot Dog Sale to benefit the July 4th Fireworks! \n 
URL:https://www.highpointfcu.com/event/firemens-hot-dog-sale-2/
END:VEVENT
BEGIN:VEVENT
DTSTART;TZID=UTC:20180623T203000
DTEND;TZID=UTC:20180623T230000
DTSTAMP:20260422T214538
CREATED:20180601T210053Z
LAST-MODIFIED:20180601T210053Z
UID:2545-1529785800-1529794800@www.highpointfcu.com
SUMMARY:Pop-Up Cinema
DESCRIPTION:Summer Movie Series- featuring Despicable Me 3
URL:https://www.highpointfcu.com/event/pop-up-cinema/
LOCATION:JCC\, 260 N. Union St.\, Olean\, NY\, 14760\, United States
END:VEVENT
BEGIN:VEVENT
DTSTART;TZID=UTC:20180616T090000
DTEND;TZID=UTC:20180616T150000
DTSTAMP:20260422T214538
CREATED:20180416T163039Z
LAST-MODIFIED:20180416T163039Z
UID:2474-1529139600-1529161200@www.highpointfcu.com
SUMMARY:Car Sale
DESCRIPTION:More information coming soon!
URL:https://www.highpointfcu.com/event/car-sale-2/
END:VEVENT
BEGIN:VEVENT
DTSTART;VALUE=DATE:20180611
DTEND;VALUE=DATE:20180612
DTSTAMP:20260422T214538
CREATED:20180416T163300Z
LAST-MODIFIED:20180416T163300Z
UID:2480-1528675200-1528761599@www.highpointfcu.com
SUMMARY:Merger Complete
DESCRIPTION:Members may now use the Allegany Office in addition to Wayne Street and N. Clark Street!
URL:https://www.highpointfcu.com/event/merger-complete/
END:VEVENT
BEGIN:VEVENT
DTSTART;TZID=UTC:20180609T080000
DTEND;TZID=UTC:20180609T170000
DTSTAMP:20260422T214538
CREATED:20180521T200604Z
LAST-MODIFIED:20180521T200604Z
UID:2530-1528531200-1528563600@www.highpointfcu.com
SUMMARY:
DESCRIPTION:eTeller Upgrade: No eTeller Services\, however you may use the Mobile App
URL:https://www.highpointfcu.com/event/2530/
END:VEVENT
BEGIN:VEVENT
DTSTART;VALUE=DATE:20180609
DTEND;VALUE=DATE:20180610
DTSTAMP:20260422T214538
CREATED:20180416T163203Z
LAST-MODIFIED:20180416T163203Z
UID:2478-1528502400-1528588799@www.highpointfcu.com
SUMMARY:Merger Weekend
DESCRIPTION:
URL:https://www.highpointfcu.com/event/merger-weekend/
END:VEVENT
BEGIN:VEVENT
DTSTART;VALUE=DATE:20180528
DTEND;VALUE=DATE:20180529
DTSTAMP:20260422T214538
CREATED:20180416T163117Z
LAST-MODIFIED:20180416T163117Z
UID:2476-1527465600-1527551999@www.highpointfcu.com
SUMMARY:Memorial Day CU Closed
DESCRIPTION:
URL:https://www.highpointfcu.com/event/memorial-day-cu-closed-2/
END:VEVENT
BEGIN:VEVENT
DTSTART;TZID=UTC:20180524T113000
DTEND;TZID=UTC:20180524T163000
DTSTAMP:20260422T214538
CREATED:20180521T200718Z
LAST-MODIFIED:20180521T200718Z
UID:2532-1527161400-1527179400@www.highpointfcu.com
SUMMARY:Bloodmobile
DESCRIPTION:
URL:https://www.highpointfcu.com/event/bloodmobile/
END:VEVENT
BEGIN:VEVENT
DTSTART;TZID=UTC:20180424T180000
DTEND;TZID=UTC:20180424T193000
DTSTAMP:20260422T214538
CREATED:20180402T135956Z
LAST-MODIFIED:20220314T185401Z
UID:2449-1524592800-1524598200@www.highpointfcu.com
SUMMARY:Student Loan Refinance Seminar
DESCRIPTION:
URL:https://www.highpointfcu.com/event/student-loan-refinance-seminar/
LOCATION:Four Mile Brewing\, 202 East Green St.\, Olean\, NY\, 14760\, United States
END:VEVENT
BEGIN:VEVENT
DTSTART;VALUE=DATE:20180219
DTEND;VALUE=DATE:20180220
DTSTAMP:20260422T214538
CREATED:20180126T160256Z
LAST-MODIFIED:20180126T160256Z
UID:2288-1518998400-1519084799@www.highpointfcu.com
SUMMARY:President's Day- CU Closed
DESCRIPTION:
URL:https://www.highpointfcu.com/event/presidents-day-cu-closed/
END:VEVENT
BEGIN:VEVENT
DTSTART;VALUE=DATE:20180129
DTEND;VALUE=DATE:20180203
DTSTAMP:20260422T214538
CREATED:20180126T160523Z
LAST-MODIFIED:20180126T160523Z
UID:2290-1517184000-1517615999@www.highpointfcu.com
SUMMARY:Souper Bowl of Caring
DESCRIPTION:Non-Perishable food items can be donated at either of our branch locations 1/29-2/2/18 to support the Olean High School Souper Bowl of Caring which aims to tackle hunger and poverty in our community!
URL:https://www.highpointfcu.com/event/souper-bowl-caring/
END:VEVENT
BEGIN:VEVENT
DTSTART;VALUE=DATE:20171225
DTEND;VALUE=DATE:20171226
DTSTAMP:20260422T214538
CREATED:20170405T180546Z
LAST-MODIFIED:20170405T180546Z
UID:1359-1514160000-1514246399@www.highpointfcu.com
SUMMARY:Christmas Day - CU Closed
DESCRIPTION:
URL:https://www.highpointfcu.com/event/christmas-day-cu-closed/
END:VEVENT
BEGIN:VEVENT
DTSTART;VALUE=DATE:20171123
DTEND;VALUE=DATE:20171124
DTSTAMP:20260422T214538
CREATED:20170405T180504Z
LAST-MODIFIED:20170405T180504Z
UID:1357-1511395200-1511481599@www.highpointfcu.com
SUMMARY:Thanksgiving Day - CU Closed
DESCRIPTION:
URL:https://www.highpointfcu.com/event/thanksgiving-day-cu-closed/
END:VEVENT
BEGIN:VEVENT
DTSTART;VALUE=DATE:20171111
DTEND;VALUE=DATE:20171112
DTSTAMP:20260422T214538
CREATED:20170405T180436Z
LAST-MODIFIED:20170405T180436Z
UID:1355-1510358400-1510444799@www.highpointfcu.com
SUMMARY:Veterans Day - CU Closed
DESCRIPTION:
URL:https://www.highpointfcu.com/event/veterans-day-cu-closed/
END:VEVENT
BEGIN:VEVENT
DTSTART;VALUE=DATE:20171009
DTEND;VALUE=DATE:20171010
DTSTAMP:20260422T214538
CREATED:20170405T180408Z
LAST-MODIFIED:20170405T180408Z
UID:1353-1507507200-1507593599@www.highpointfcu.com
SUMMARY:Columbus Day - CU Closed
DESCRIPTION:
URL:https://www.highpointfcu.com/event/columbus-day-cu-closed/
END:VEVENT
BEGIN:VEVENT
DTSTART;VALUE=DATE:20170904
DTEND;VALUE=DATE:20170905
DTSTAMP:20260422T214538
CREATED:20170405T180340Z
LAST-MODIFIED:20170405T180340Z
UID:1351-1504483200-1504569599@www.highpointfcu.com
SUMMARY:Labor Day - CU Closed
DESCRIPTION:
URL:https://www.highpointfcu.com/event/labor-day-cu-closed/
END:VEVENT
BEGIN:VEVENT
DTSTART;TZID=UTC:20170824T110000
DTEND;TZID=UTC:20170824T160000
DTSTAMP:20260422T214538
CREATED:20170721T124112Z
LAST-MODIFIED:20170721T124112Z
UID:1984-1503572400-1503590400@www.highpointfcu.com
SUMMARY:Member Appreciation Day
DESCRIPTION:
URL:https://www.highpointfcu.com/event/member-appreciation-day/
END:VEVENT
BEGIN:VEVENT
DTSTART;TZID=UTC:20170818T083000
DTEND;TZID=UTC:20170818T223000
DTSTAMP:20260422T214538
CREATED:20170721T123543Z
LAST-MODIFIED:20170721T123543Z
UID:1979-1503045000-1503095400@www.highpointfcu.com
SUMMARY:Moana Movie Night @ JCC
DESCRIPTION:The Credit Union Movie Night is in conjunction with StrOlean. Our 21′ screen will be on the lawn of JCC. If\, by 5pm\, there is a high chance of rain the movie will move into Cutco Theater at 6:30pm and we will post on our facebook page.
URL:https://www.highpointfcu.com/event/moana-moive-night-jcc/
LOCATION:Jamestown Community College\, 206 North Union Street\, Olean\, NY\, 14760\, United States
END:VEVENT
BEGIN:VEVENT
DTSTART;TZID=UTC:20170728T203000
DTEND;TZID=UTC:20170728T223000
DTSTAMP:20260422T214538
CREATED:20170721T122618Z
LAST-MODIFIED:20170721T122618Z
UID:1973-1501273800-1501281000@www.highpointfcu.com
SUMMARY:The Goonies Movie Night @ War Vets Park
DESCRIPTION:
URL:https://www.highpointfcu.com/event/the-goonies-movie-night-war-vets-park/
END:VEVENT
BEGIN:VEVENT
DTSTART;TZID=UTC:20170713T110000
DTEND;TZID=UTC:20170713T140000
DTSTAMP:20260422T214538
CREATED:20170721T122948Z
LAST-MODIFIED:20170721T122948Z
UID:1977-1499943600-1499954400@www.highpointfcu.com
SUMMARY:Shred Day
DESCRIPTION:
URL:https://www.highpointfcu.com/event/shred-day/
END:VEVENT
BEGIN:VEVENT
DTSTART;VALUE=DATE:20170704
DTEND;VALUE=DATE:20170705
DTSTAMP:20260422T214538
CREATED:20170405T180257Z
LAST-MODIFIED:20170405T180257Z
UID:1349-1499126400-1499212799@www.highpointfcu.com
SUMMARY:Independence Day - CU Closed
DESCRIPTION:
URL:https://www.highpointfcu.com/event/independence-day-cu-closed/
END:VEVENT
BEGIN:VEVENT
DTSTART;TZID=UTC:20170630T200000
DTEND;TZID=UTC:20170630T230000
DTSTAMP:20260422T214538
CREATED:20170616T191645Z
LAST-MODIFIED:20170616T191645Z
UID:1930-1498852800-1498863600@www.highpointfcu.com
SUMMARY:Movie Night at the CU
DESCRIPTION:Outdoor Movie Night #1 at 9pm in the Wayne Street parking lot. 8-9pm Hot Dog Sales to benefit the Fireworks.
URL:https://www.highpointfcu.com/event/movie-night-at-the-cu/
END:VEVENT
BEGIN:VEVENT
DTSTART;TZID=UTC:20170630T110000
DTEND;TZID=UTC:20170630T160000
DTSTAMP:20260422T214538
CREATED:20170616T191459Z
LAST-MODIFIED:20170616T191459Z
UID:1928-1498820400-1498838400@www.highpointfcu.com
SUMMARY:Firemen's Hot Dog Sale
DESCRIPTION:11am – until sold out!
URL:https://www.highpointfcu.com/event/firemens-hot-dog-sale/
END:VEVENT
END:VCALENDAR