BEGIN:VCALENDAR
VERSION:2.0
PRODID:-//High Point FCU - ECPv6.15.20//NONSGML v1.0//EN
CALSCALE:GREGORIAN
METHOD:PUBLISH
X-WR-CALNAME:High Point FCU
X-ORIGINAL-URL:https://www.highpointfcu.com
X-WR-CALDESC:Events for High Point FCU
REFRESH-INTERVAL;VALUE=DURATION:PT1H
X-Robots-Tag:noindex
X-PUBLISHED-TTL:PT1H
BEGIN:VTIMEZONE
TZID:UTC
BEGIN:STANDARD
TZOFFSETFROM:+0000
TZOFFSETTO:+0000
TZNAME:UTC
DTSTART:20170101T000000
END:STANDARD
END:VTIMEZONE
BEGIN:VEVENT
DTSTART;VALUE=DATE:20190614
DTEND;VALUE=DATE:20190615
DTSTAMP:20260422T214928
CREATED:20190109T195750Z
LAST-MODIFIED:20190109T195750Z
UID:3144-1560470400-1560556799@www.highpointfcu.com
SUMMARY:Flag Day
DESCRIPTION:
URL:https://www.highpointfcu.com/event/flag-day/
END:VEVENT
BEGIN:VEVENT
DTSTART;TZID=UTC:20190608T090000
DTEND;TZID=UTC:20190608T150000
DTSTAMP:20260422T214928
CREATED:20190517T183645Z
LAST-MODIFIED:20190517T183645Z
UID:3344-1559984400-1560006000@www.highpointfcu.com
SUMMARY:2019 Car Sale
DESCRIPTION:
URL:https://www.highpointfcu.com/event/2019-car-sale/
END:VEVENT
BEGIN:VEVENT
DTSTART;VALUE=DATE:20190527
DTEND;VALUE=DATE:20190528
DTSTAMP:20260422T214928
CREATED:20190109T195718Z
LAST-MODIFIED:20190109T195718Z
UID:3142-1558915200-1559001599@www.highpointfcu.com
SUMMARY:Memorial Day - CU Closed
DESCRIPTION:
URL:https://www.highpointfcu.com/event/memorial-day-cu-closed-3/
END:VEVENT
BEGIN:VEVENT
DTSTART;VALUE=DATE:20190512
DTEND;VALUE=DATE:20190513
DTSTAMP:20260422T214928
CREATED:20190109T195654Z
LAST-MODIFIED:20190109T195654Z
UID:3140-1557619200-1557705599@www.highpointfcu.com
SUMMARY:Mother's Day
DESCRIPTION:
URL:https://www.highpointfcu.com/event/mothers-day-2/
END:VEVENT
BEGIN:VEVENT
DTSTART;TZID=UTC:20190507T140000
DTEND;TZID=UTC:20190507T160000
DTSTAMP:20260422T214928
CREATED:20190422T155014Z
LAST-MODIFIED:20190422T155014Z
UID:3323-1557237600-1557244800@www.highpointfcu.com
SUMMARY:SBA/ USDA Day
DESCRIPTION:
URL:https://www.highpointfcu.com/event/sba-usda-day/
END:VEVENT
BEGIN:VEVENT
DTSTART;VALUE=DATE:20190421
DTEND;VALUE=DATE:20190422
DTSTAMP:20260422T214928
CREATED:20190109T195630Z
LAST-MODIFIED:20190109T195630Z
UID:3138-1555804800-1555891199@www.highpointfcu.com
SUMMARY:Easter Sunday
DESCRIPTION:
URL:https://www.highpointfcu.com/event/easter-sunday-2/
END:VEVENT
BEGIN:VEVENT
DTSTART;VALUE=DATE:20190320
DTEND;VALUE=DATE:20190321
DTSTAMP:20260422T214928
CREATED:20190109T195602Z
LAST-MODIFIED:20190109T195602Z
UID:3136-1553040000-1553126399@www.highpointfcu.com
SUMMARY:First Day of Spring
DESCRIPTION:
URL:https://www.highpointfcu.com/event/first-day-of-spring/
END:VEVENT
BEGIN:VEVENT
DTSTART;VALUE=DATE:20190317
DTEND;VALUE=DATE:20190318
DTSTAMP:20260422T214928
CREATED:20190109T195538Z
LAST-MODIFIED:20190109T195538Z
UID:3134-1552780800-1552867199@www.highpointfcu.com
SUMMARY:St. Patrick's Day
DESCRIPTION:
URL:https://www.highpointfcu.com/event/st-patricks-day/
END:VEVENT
BEGIN:VEVENT
DTSTART;VALUE=DATE:20190310
DTEND;VALUE=DATE:20190311
DTSTAMP:20260422T214928
CREATED:20190109T195514Z
LAST-MODIFIED:20190109T195514Z
UID:3132-1552176000-1552262399@www.highpointfcu.com
SUMMARY:Daylight Savings Begins
DESCRIPTION:
URL:https://www.highpointfcu.com/event/daylight-savings-begins/
END:VEVENT
BEGIN:VEVENT
DTSTART;VALUE=DATE:20190218
DTEND;VALUE=DATE:20190219
DTSTAMP:20260422T214928
CREATED:20190109T195412Z
LAST-MODIFIED:20190109T195412Z
UID:3129-1550448000-1550534399@www.highpointfcu.com
SUMMARY:Presidents' Day- CU Closed
DESCRIPTION:
URL:https://www.highpointfcu.com/event/presidents-day-cu-closed-2/
END:VEVENT
BEGIN:VEVENT
DTSTART;VALUE=DATE:20190214
DTEND;VALUE=DATE:20190215
DTSTAMP:20260422T214928
CREATED:20190109T195330Z
LAST-MODIFIED:20190109T195330Z
UID:3126-1550102400-1550188799@www.highpointfcu.com
SUMMARY:Valentine's Day
DESCRIPTION:
URL:https://www.highpointfcu.com/event/valentines-day/
END:VEVENT
BEGIN:VEVENT
DTSTART;VALUE=DATE:20190121
DTEND;VALUE=DATE:20190122
DTSTAMP:20260422T214928
CREATED:20190109T195143Z
LAST-MODIFIED:20190109T195143Z
UID:3122-1548028800-1548115199@www.highpointfcu.com
SUMMARY:Martin Luther King\, Jr. Day - CU Closed
DESCRIPTION:Martin Luther King\, Jr. Day- CU CLOSED
URL:https://www.highpointfcu.com/event/martin-luther-king-jr-day/
END:VEVENT
BEGIN:VEVENT
DTSTART;VALUE=DATE:20190101
DTEND;VALUE=DATE:20190102
DTSTAMP:20260422T214928
CREATED:20180904T170749Z
LAST-MODIFIED:20180904T170749Z
UID:2917-1546300800-1546387199@www.highpointfcu.com
SUMMARY:New Year's Day - CU Closed
DESCRIPTION:
URL:https://www.highpointfcu.com/event/new-years-day-cu-closed/
END:VEVENT
BEGIN:VEVENT
DTSTART;TZID=UTC:20181231T153000
DTEND;TZID=UTC:20181231T173000
DTSTAMP:20260422T214928
CREATED:20180904T170723Z
LAST-MODIFIED:20180904T170723Z
UID:2915-1546270200-1546277400@www.highpointfcu.com
SUMMARY:New Year's Eve - CU Closing at 3:30pm
DESCRIPTION:
URL:https://www.highpointfcu.com/event/new-years-eve-cu-closing-at-300pm/
END:VEVENT
BEGIN:VEVENT
DTSTART;VALUE=DATE:20181225
DTEND;VALUE=DATE:20181226
DTSTAMP:20260422T214928
CREATED:20180904T170644Z
LAST-MODIFIED:20180904T170644Z
UID:2913-1545696000-1545782399@www.highpointfcu.com
SUMMARY:Christmas Day - CU Closed
DESCRIPTION:
URL:https://www.highpointfcu.com/event/christmas-day-cu-closed-2/
END:VEVENT
BEGIN:VEVENT
DTSTART;TZID=UTC:20181224T123000
DTEND;TZID=UTC:20181224T173000
DTSTAMP:20260422T214928
CREATED:20180904T170617Z
LAST-MODIFIED:20180904T170617Z
UID:2911-1545654600-1545672600@www.highpointfcu.com
SUMMARY:Christmas Eve - Closing at 12:30pm
DESCRIPTION:
URL:https://www.highpointfcu.com/event/christmas-eve-closing-at-1230pm/
END:VEVENT
BEGIN:VEVENT
DTSTART;VALUE=DATE:20181122
DTEND;VALUE=DATE:20181123
DTSTAMP:20260422T214928
CREATED:20180904T170410Z
LAST-MODIFIED:20180904T170410Z
UID:2908-1542844800-1542931199@www.highpointfcu.com
SUMMARY:Thanksgiving Day - CU Closed
DESCRIPTION:
URL:https://www.highpointfcu.com/event/thanksgiving-day-cu-closed-2/
END:VEVENT
BEGIN:VEVENT
DTSTART;VALUE=DATE:20181112
DTEND;VALUE=DATE:20181113
DTSTAMP:20260422T214928
CREATED:20180904T170346Z
LAST-MODIFIED:20180904T170346Z
UID:2906-1541980800-1542067199@www.highpointfcu.com
SUMMARY:Veterans Day Observed - CU Closed
DESCRIPTION:
URL:https://www.highpointfcu.com/event/veterans-day-observed-cu-closed/
END:VEVENT
BEGIN:VEVENT
DTSTART;TZID=UTC:20181031T080000
DTEND;TZID=UTC:20181031T170000
DTSTAMP:20260422T214928
CREATED:20180904T170310Z
LAST-MODIFIED:20180904T170310Z
UID:2904-1540972800-1541005200@www.highpointfcu.com
SUMMARY:Happy Halloween
DESCRIPTION:
URL:https://www.highpointfcu.com/event/happy-halloween/
END:VEVENT
BEGIN:VEVENT
DTSTART;VALUE=DATE:20181008
DTEND;VALUE=DATE:20181009
DTSTAMP:20260422T214928
CREATED:20180904T170249Z
LAST-MODIFIED:20180904T170249Z
UID:2902-1538956800-1539043199@www.highpointfcu.com
SUMMARY:Columbus Day - CU Closed
DESCRIPTION:
URL:https://www.highpointfcu.com/event/columbus-day-cu-closed-2/
END:VEVENT
BEGIN:VEVENT
DTSTART;TZID=UTC:20180913T110000
DTEND;TZID=UTC:20180913T160000
DTSTAMP:20260422T214928
CREATED:20180904T165945Z
LAST-MODIFIED:20180904T165945Z
UID:2898-1536836400-1536854400@www.highpointfcu.com
SUMMARY:Clark Street Member Appreciation Day
DESCRIPTION:
URL:https://www.highpointfcu.com/event/clark-street-member-appreciation-day/
END:VEVENT
BEGIN:VEVENT
DTSTART;TZID=UTC:20180906T110000
DTEND;TZID=UTC:20180906T160000
DTSTAMP:20260422T214928
CREATED:20180904T165855Z
LAST-MODIFIED:20210929T181546Z
UID:2895-1536231600-1536249600@www.highpointfcu.com
SUMMARY:Allegany Office Member Appreciation Day
DESCRIPTION:
URL:https://www.highpointfcu.com/event/allegany-office-member-appreciation-day/
END:VEVENT
BEGIN:VEVENT
DTSTART;VALUE=DATE:20180903
DTEND;VALUE=DATE:20180904
DTSTAMP:20260422T214928
CREATED:20180904T170204Z
LAST-MODIFIED:20180904T170204Z
UID:2900-1535932800-1536019199@www.highpointfcu.com
SUMMARY:Labor Day - CU Closed
DESCRIPTION:
URL:https://www.highpointfcu.com/event/labor-day-cu-closed-2/
END:VEVENT
BEGIN:VEVENT
DTSTART;TZID=UTC:20180830T110000
DTEND;TZID=UTC:20180830T160000
DTSTAMP:20260422T214928
CREATED:20180904T165716Z
LAST-MODIFIED:20180904T165716Z
UID:2893-1535626800-1535644800@www.highpointfcu.com
SUMMARY:Main Office Member Appreciation
DESCRIPTION:
URL:https://www.highpointfcu.com/event/main-office-member-appreciation/
END:VEVENT
BEGIN:VEVENT
DTSTART;TZID=UTC:20180728T203000
DTEND;TZID=UTC:20180728T233000
DTSTAMP:20260422T214928
CREATED:20180625T160221Z
LAST-MODIFIED:20180625T160221Z
UID:2608-1532809800-1532820600@www.highpointfcu.com
SUMMARY:Pop-Up Cinema
DESCRIPTION:Summer Movie Series- featuring Jurassic Park
URL:https://www.highpointfcu.com/event/pop-up-cinema-6/
LOCATION:JCC\, 260 N. Union St.\, Olean\, NY\, 14760\, United States
END:VEVENT
BEGIN:VEVENT
DTSTART;TZID=UTC:20180721T203000
DTEND;TZID=UTC:20180721T233000
DTSTAMP:20260422T214928
CREATED:20180625T160135Z
LAST-MODIFIED:20180625T160135Z
UID:2606-1532205000-1532215800@www.highpointfcu.com
SUMMARY:Pop-Up Cinema
DESCRIPTION:Summer Movie Series- featuring Wizard of Oz
URL:https://www.highpointfcu.com/event/pop-up-cinema-5/
LOCATION:JCC\, 260 N. Union St.\, Olean\, NY\, 14760\, United States
END:VEVENT
BEGIN:VEVENT
DTSTART;TZID=UTC:20180714T203000
DTEND;TZID=UTC:20180714T233000
DTSTAMP:20260422T214928
CREATED:20180625T155943Z
LAST-MODIFIED:20180625T155943Z
UID:2604-1531600200-1531611000@www.highpointfcu.com
SUMMARY:Pop-Up Cinema
DESCRIPTION:Summer Movie Series- featuring Wonder
URL:https://www.highpointfcu.com/event/pop-up-cinema-4/
LOCATION:JCC\, 260 N. Union St.\, Olean\, NY\, 14760\, United States
END:VEVENT
BEGIN:VEVENT
DTSTART;TZID=UTC:20180707T203000
DTEND;TZID=UTC:20180707T233000
DTSTAMP:20260422T214928
CREATED:20180625T155759Z
LAST-MODIFIED:20180625T155759Z
UID:2602-1530995400-1531006200@www.highpointfcu.com
SUMMARY:Pop-Up Cinema
DESCRIPTION:Summer Movie Series- featuring Star Wars: The Last Jedi
URL:https://www.highpointfcu.com/event/pop-up-cinema-3/
LOCATION:JCC\, 260 N. Union St.\, Olean\, NY\, 14760\, United States
END:VEVENT
BEGIN:VEVENT
DTSTART;VALUE=DATE:20180704
DTEND;VALUE=DATE:20180705
DTSTAMP:20260422T214928
CREATED:20180625T160320Z
LAST-MODIFIED:20180625T160320Z
UID:2610-1530662400-1530748799@www.highpointfcu.com
SUMMARY:Independence Day
DESCRIPTION:Independence Day: CU Closed. \nWishing you a safe and happy holiday!
URL:https://www.highpointfcu.com/event/independence-day/
END:VEVENT
BEGIN:VEVENT
DTSTART;TZID=UTC:20180630T203000
DTEND;TZID=UTC:20180630T233000
DTSTAMP:20260422T214928
CREATED:20180601T210201Z
LAST-MODIFIED:20180601T210201Z
UID:2548-1530390600-1530401400@www.highpointfcu.com
SUMMARY:Pop-Up Cinema
DESCRIPTION:Summer Movie Series- featuring Thor: Ragnarok
URL:https://www.highpointfcu.com/event/pop-up-cinema-2/
LOCATION:JCC\, 260 N. Union St.\, Olean\, NY\, 14760\, United States
END:VEVENT
END:VCALENDAR