BEGIN:VCALENDAR
VERSION:2.0
PRODID:-//High Point FCU - ECPv6.15.20//NONSGML v1.0//EN
CALSCALE:GREGORIAN
METHOD:PUBLISH
X-WR-CALNAME:High Point FCU
X-ORIGINAL-URL:https://www.highpointfcu.com
X-WR-CALDESC:Events for High Point FCU
REFRESH-INTERVAL;VALUE=DURATION:PT1H
X-Robots-Tag:noindex
X-PUBLISHED-TTL:PT1H
BEGIN:VTIMEZONE
TZID:UTC
BEGIN:STANDARD
TZOFFSETFROM:+0000
TZOFFSETTO:+0000
TZNAME:UTC
DTSTART:20230101T000000
END:STANDARD
END:VTIMEZONE
BEGIN:VEVENT
DTSTART;VALUE=DATE:20241225
DTEND;VALUE=DATE:20241226
DTSTAMP:20260421T171621
CREATED:20240104T150125Z
LAST-MODIFIED:20240223T133418Z
UID:10518-1735084800-1735171199@www.highpointfcu.com
SUMMARY:Christmas Day - CU Closed
DESCRIPTION:
URL:https://www.highpointfcu.com/event/christmas-day-cu-closed-6/
END:VEVENT
BEGIN:VEVENT
DTSTART;VALUE=DATE:20241224
DTEND;VALUE=DATE:20241225
DTSTAMP:20260421T171621
CREATED:20240104T150351Z
LAST-MODIFIED:20240223T133654Z
UID:10520-1734998400-1735084799@www.highpointfcu.com
SUMMARY:Christmas Eve
DESCRIPTION:
URL:https://www.highpointfcu.com/event/christmas-eve-2/
END:VEVENT
BEGIN:VEVENT
DTSTART;VALUE=DATE:20241221
DTEND;VALUE=DATE:20241222
DTSTAMP:20260421T171621
CREATED:20240220T150035Z
LAST-MODIFIED:20240223T133722Z
UID:10685-1734739200-1734825599@www.highpointfcu.com
SUMMARY:Winter Begins
DESCRIPTION:
URL:https://www.highpointfcu.com/event/winter-begins-4/
END:VEVENT
BEGIN:VEVENT
DTSTART;VALUE=DATE:20241128
DTEND;VALUE=DATE:20241129
DTSTAMP:20260421T171621
CREATED:20240104T150901Z
LAST-MODIFIED:20240223T133821Z
UID:10522-1732752000-1732838399@www.highpointfcu.com
SUMMARY:Thanksgiving Day - CU Closed
DESCRIPTION:
URL:https://www.highpointfcu.com/event/thanksgiving-day-cu-closed-8/
END:VEVENT
BEGIN:VEVENT
DTSTART;VALUE=DATE:20241111
DTEND;VALUE=DATE:20241112
DTSTAMP:20260421T171621
CREATED:20240104T151221Z
LAST-MODIFIED:20240223T133851Z
UID:10524-1731283200-1731369599@www.highpointfcu.com
SUMMARY:Veterans Day - CU Closed
DESCRIPTION:
URL:https://www.highpointfcu.com/event/veterans-day-cu-closed-6/
END:VEVENT
BEGIN:VEVENT
DTSTART;VALUE=DATE:20241103
DTEND;VALUE=DATE:20241104
DTSTAMP:20260421T171621
CREATED:20240220T145918Z
LAST-MODIFIED:20240223T133949Z
UID:10683-1730592000-1730678399@www.highpointfcu.com
SUMMARY:Daylight Savings Ends
DESCRIPTION:
URL:https://www.highpointfcu.com/event/daylight-savings-ends-4/
END:VEVENT
BEGIN:VEVENT
DTSTART;VALUE=DATE:20241031
DTEND;VALUE=DATE:20241101
DTSTAMP:20260421T171621
CREATED:20240220T145501Z
LAST-MODIFIED:20240223T134022Z
UID:10681-1730332800-1730419199@www.highpointfcu.com
SUMMARY:Halloween
DESCRIPTION:
URL:https://www.highpointfcu.com/event/halloween-5/
END:VEVENT
BEGIN:VEVENT
DTSTART;VALUE=DATE:20241014
DTEND;VALUE=DATE:20241015
DTSTAMP:20260421T171621
CREATED:20240104T151511Z
LAST-MODIFIED:20240223T134057Z
UID:10526-1728864000-1728950399@www.highpointfcu.com
SUMMARY:Columbus/Indigenous People's Day - CU Closed
DESCRIPTION:
URL:https://www.highpointfcu.com/event/columbus-indigenous-peoples-day-cu-closed/
END:VEVENT
BEGIN:VEVENT
DTSTART;VALUE=DATE:20240922
DTEND;VALUE=DATE:20240923
DTSTAMP:20260421T171621
CREATED:20240220T145404Z
LAST-MODIFIED:20240223T134338Z
UID:10679-1726963200-1727049599@www.highpointfcu.com
SUMMARY:Autumn Begins
DESCRIPTION:
URL:https://www.highpointfcu.com/event/autumn-begins-4/
END:VEVENT
BEGIN:VEVENT
DTSTART;TZID=UTC:20240912T110000
DTEND;TZID=UTC:20240912T150000
DTSTAMP:20260421T171621
CREATED:20240517T165412Z
LAST-MODIFIED:20240703T144551Z
UID:10979-1726138800-1726153200@www.highpointfcu.com
SUMMARY:Member Appreciation Day - Portville
DESCRIPTION:
URL:https://www.highpointfcu.com/event/member-appreciation-day-portville/
END:VEVENT
BEGIN:VEVENT
DTSTART;TZID=UTC:20240905T110000
DTEND;TZID=UTC:20240905T150000
DTSTAMP:20260421T171621
CREATED:20240517T165556Z
LAST-MODIFIED:20240517T165556Z
UID:10981-1725534000-1725548400@www.highpointfcu.com
SUMMARY:Member Appreciation Day - Allegany
DESCRIPTION:
URL:https://www.highpointfcu.com/event/member-appreciation-day-allegany/
END:VEVENT
BEGIN:VEVENT
DTSTART;VALUE=DATE:20240902
DTEND;VALUE=DATE:20240903
DTSTAMP:20260421T171621
CREATED:20240104T151744Z
LAST-MODIFIED:20240223T134417Z
UID:10528-1725235200-1725321599@www.highpointfcu.com
SUMMARY:Labor Day - CU Closed
DESCRIPTION:
URL:https://www.highpointfcu.com/event/labor-day-cu-closed-8/
END:VEVENT
BEGIN:VEVENT
DTSTART;TZID=UTC:20240823T200000
DTEND;TZID=UTC:20240823T230000
DTSTAMP:20260421T171621
CREATED:20240517T164502Z
LAST-MODIFIED:20240808T140637Z
UID:10971-1724443200-1724454000@www.highpointfcu.com
SUMMARY:Outdoor Family Movie Night – Featuring: Migration
DESCRIPTION:
URL:https://www.highpointfcu.com/event/outdoor-family-movie-night-featuring-migration/
END:VEVENT
BEGIN:VEVENT
DTSTART;TZID=UTC:20240822T110000
DTEND;TZID=UTC:20240822T150000
DTSTAMP:20260421T171621
CREATED:20240517T165723Z
LAST-MODIFIED:20240703T144505Z
UID:10983-1724324400-1724338800@www.highpointfcu.com
SUMMARY:Member Appreciation Day - Clark St.
DESCRIPTION:
URL:https://www.highpointfcu.com/event/member-appreciation-day-clark-st/
END:VEVENT
BEGIN:VEVENT
DTSTART;TZID=UTC:20240815T110000
DTEND;TZID=UTC:20240815T150000
DTSTAMP:20260421T171621
CREATED:20240517T165241Z
LAST-MODIFIED:20240517T165241Z
UID:10976-1723719600-1723734000@www.highpointfcu.com
SUMMARY:Member Appreciation Day- Wayne St
DESCRIPTION:
URL:https://www.highpointfcu.com/event/member-appreciation-day-wayne-st/
END:VEVENT
BEGIN:VEVENT
DTSTART;TZID=UTC:20240719T213000
DTEND;TZID=UTC:20240719T233000
DTSTAMP:20260421T171621
CREATED:20240517T164251Z
LAST-MODIFIED:20240517T164544Z
UID:10967-1721424600-1721431800@www.highpointfcu.com
SUMMARY:Outdoor Family Movie Night – Featuring: Wish
DESCRIPTION:
URL:https://www.highpointfcu.com/event/outdoor-family-movie-night-featuring-wish/
END:VEVENT
BEGIN:VEVENT
DTSTART;TZID=UTC:20240711T110000
DTEND;TZID=UTC:20240711T140000
DTSTAMP:20260421T171621
CREATED:20240517T164827Z
LAST-MODIFIED:20240517T164827Z
UID:10974-1720695600-1720706400@www.highpointfcu.com
SUMMARY:Shred Day
DESCRIPTION:
URL:https://www.highpointfcu.com/event/shred-day-4/
END:VEVENT
BEGIN:VEVENT
DTSTART;TZID=UTC:20240621T210000
DTEND;TZID=UTC:20240621T230000
DTSTAMP:20260421T171621
CREATED:20240517T161930Z
LAST-MODIFIED:20240517T162151Z
UID:10960-1719003600-1719010800@www.highpointfcu.com
SUMMARY:Outdoor Family Movie Night - Featuring: Elemental
DESCRIPTION:
URL:https://www.highpointfcu.com/event/outdoor-family-movie-night-featuring-elemental/
LOCATION:JCC\, 260 N. Union St.\, Olean\, NY\, 14760\, United States
END:VEVENT
BEGIN:VEVENT
DTSTART;VALUE=DATE:20240620
DTEND;VALUE=DATE:20240621
DTSTAMP:20260421T171621
CREATED:20240220T145230Z
LAST-MODIFIED:20240223T135053Z
UID:10677-1718841600-1718927999@www.highpointfcu.com
SUMMARY:Summer Begins
DESCRIPTION:
URL:https://www.highpointfcu.com/event/summer-begins-4/
END:VEVENT
BEGIN:VEVENT
DTSTART;VALUE=DATE:20240619
DTEND;VALUE=DATE:20240620
DTSTAMP:20260421T171621
CREATED:20240104T152308Z
LAST-MODIFIED:20240223T135133Z
UID:10532-1718755200-1718841599@www.highpointfcu.com
SUMMARY:Juneteenth - CU Closed
DESCRIPTION:
URL:https://www.highpointfcu.com/event/juneteenth-cu-closed/
END:VEVENT
BEGIN:VEVENT
DTSTART;VALUE=DATE:20240616
DTEND;VALUE=DATE:20240617
DTSTAMP:20260421T171621
CREATED:20240220T145146Z
LAST-MODIFIED:20240223T135210Z
UID:10675-1718496000-1718582399@www.highpointfcu.com
SUMMARY:Father's Day
DESCRIPTION:
URL:https://www.highpointfcu.com/event/fathers-day-5/
END:VEVENT
BEGIN:VEVENT
DTSTART;VALUE=DATE:20240614
DTEND;VALUE=DATE:20240615
DTSTAMP:20260421T171621
CREATED:20240220T145105Z
LAST-MODIFIED:20240223T135243Z
UID:10673-1718323200-1718409599@www.highpointfcu.com
SUMMARY:Flag Day
DESCRIPTION:
URL:https://www.highpointfcu.com/event/flag-day-4/
END:VEVENT
BEGIN:VEVENT
DTSTART;VALUE=DATE:20240527
DTEND;VALUE=DATE:20240528
DTSTAMP:20260421T171621
CREATED:20240104T152431Z
LAST-MODIFIED:20240223T135306Z
UID:10534-1716768000-1716854399@www.highpointfcu.com
SUMMARY:Memorial Day - CU Closed
DESCRIPTION:
URL:https://www.highpointfcu.com/event/memorial-day-cu-closed-8/
END:VEVENT
BEGIN:VEVENT
DTSTART;VALUE=DATE:20240512
DTEND;VALUE=DATE:20240513
DTSTAMP:20260421T171621
CREATED:20240220T144932Z
LAST-MODIFIED:20240223T135332Z
UID:10671-1715472000-1715558399@www.highpointfcu.com
SUMMARY:Mother's Day
DESCRIPTION:
URL:https://www.highpointfcu.com/event/mothers-day-6/
END:VEVENT
BEGIN:VEVENT
DTSTART;VALUE=DATE:20240422
DTEND;VALUE=DATE:20240423
DTSTAMP:20260421T171621
CREATED:20240220T144834Z
LAST-MODIFIED:20240223T135403Z
UID:10669-1713744000-1713830399@www.highpointfcu.com
SUMMARY:Earth Day
DESCRIPTION:
URL:https://www.highpointfcu.com/event/earth-day/
END:VEVENT
BEGIN:VEVENT
DTSTART;VALUE=DATE:20240408
DTEND;VALUE=DATE:20240409
DTSTAMP:20260421T171621
CREATED:20240329T192958Z
LAST-MODIFIED:20240329T192958Z
UID:10872-1712534400-1712620799@www.highpointfcu.com
SUMMARY:Solar Eclipse
DESCRIPTION:
URL:https://www.highpointfcu.com/event/solar-eclipse/
END:VEVENT
BEGIN:VEVENT
DTSTART;VALUE=DATE:20240401
DTEND;VALUE=DATE:20240402
DTSTAMP:20260421T171621
CREATED:20240329T193034Z
LAST-MODIFIED:20240329T193034Z
UID:10874-1711929600-1712015999@www.highpointfcu.com
SUMMARY:New Summer Hours Start
DESCRIPTION:
URL:https://www.highpointfcu.com/event/new-summer-hours-start/
END:VEVENT
BEGIN:VEVENT
DTSTART;VALUE=DATE:20240331
DTEND;VALUE=DATE:20240401
DTSTAMP:20260421T171621
CREATED:20240220T144732Z
LAST-MODIFIED:20240223T135434Z
UID:10667-1711843200-1711929599@www.highpointfcu.com
SUMMARY:Easter
DESCRIPTION:
URL:https://www.highpointfcu.com/event/easter/
END:VEVENT
BEGIN:VEVENT
DTSTART;VALUE=DATE:20240319
DTEND;VALUE=DATE:20240320
DTSTAMP:20260421T171621
CREATED:20240220T144414Z
LAST-MODIFIED:20240223T135538Z
UID:10665-1710806400-1710892799@www.highpointfcu.com
SUMMARY:First Day of Spring
DESCRIPTION:
URL:https://www.highpointfcu.com/event/first-day-of-spring-4/
END:VEVENT
BEGIN:VEVENT
DTSTART;VALUE=DATE:20240317
DTEND;VALUE=DATE:20240318
DTSTAMP:20260421T171621
CREATED:20240220T144334Z
LAST-MODIFIED:20240223T135621Z
UID:10663-1710633600-1710719999@www.highpointfcu.com
SUMMARY:St. Patrick's Day
DESCRIPTION:
URL:https://www.highpointfcu.com/event/st-patricks-day-4/
END:VEVENT
END:VCALENDAR